View In:
ArcGIS JavaScript
ArcGIS Online Map Viewer
ArcGIS Earth
ArcGIS Pro
Service Description:
Map Name: Area2_6455
Legend
All Layers and Tables
Layers:
Description:
Service Item Id: 0d68b6d7d16245e68038fd69ce04fa11
Copyright Text:
Spatial Reference:
103037
(6455)
Single Fused Map Cache: true
Tile Info:
- Height: 256
- Width: 256
- DPI: 96
-
Levels of Detail: 20
-
Level ID: 0
[ Start Tile, End Tile ]
- Resolution: 39135.75848200009
- Scale: 1.47914381897889E8
-
Level ID: 1
[ Start Tile, End Tile ]
- Resolution: 19567.87924099992
- Scale: 7.3957190948944E7
-
Level ID: 2
[ Start Tile, End Tile ]
- Resolution: 9783.93962049996
- Scale: 3.6978595474472E7
-
Level ID: 3
[ Start Tile, End Tile ]
- Resolution: 4891.96981024998
- Scale: 1.8489297737236E7
- Format: MIXED
- Compression Quality: 70.0
- Origin: X: -1.74638E7
Y: 1.94961E7
- Spatial Reference: 103037
(6455)
Storage Info:
- Storage Format: esriMapCacheStorageModeCompactV2
- Packet Size: 128
Initial Extent:
XMin: 1001510.0364524573
YMin: 1570785.0227636467
XMax: 1214010.050916641
YMax: 1693285.0644727685
Spatial Reference: 103037
(6455)
Full Extent:
XMin: 1001510.0364524573
YMin: 1570785.0227636467
XMax: 1214010.050916641
YMax: 1693285.0644727685
Spatial Reference: 103037
(6455)
Units: esriFeet
Supported Image Format Types:
Document Info:
Supports Dynamic Layers: false
Resampling: true
MaxRecordCount: 0
MaxImageHeight: 0
MaxImageWidth: 0
Supported Query Formats:
Supports Query Data Elements:
Min Scale: 2311162.217155
Max Scale: 141.062147
Min LOD: 6
Max LOD: 19
Child Resources:
Info
Supported Operations:
QueryLegends
Return Updates